BEGIN:VCALENDAR
VERSION:2.0
PRODID:-//wp-events-plugin.com//7.2.3.1//EN
TZID:Europe/Amsterdam
X-WR-TIMEZONE:Europe/Amsterdam
BEGIN:VEVENT
UID:9@samenswingen.nl
DTSTART;TZID=Europe/Amsterdam:20191123T210000
DTEND;TZID=Europe/Amsterdam:20191124T050000
DTSTAMP:20211021T200934Z
URL:https://samenswingen.nl/Swingers-Evenementen/sdc-world-party/
SUMMARY:SDC World Party
DESCRIPTION:Event: SDC World Party\nTheme: Fire &amp\; Ice\nDate: 23.11.
 2019\nVenue: Central Studios\nVenue address: Gietijzerstraat 3/5\, 3534 
 AV Utrecht\, The Netherlands\nTime: 21.00 till 05.00 hrs\nMin.age: 21+\n
 TYPE OF TICKET:\nRegular ticket is only entrance\nVIP ticket is entrance t
 o the VIP Skydeck incl. welcome drink\, sushi\, fingerfood\, fruit\, DVD /
 CD.\nVIP table reservations possible [8 tables available]. Price each tabl
 e € 900\,00 [6 persons] incl. 1 bottle Bubbles\, 1 bottle liquor\, unlim
 ited soft drinks (No Beer)\, welcome drink\, sushi\, fingerfood\, fruit\, 
 DVD /CD\n-Locker ticket is only locker (No entrance ticket)\nPresale:\nE-t
 ickets: Paylogic\nEntrance: Only Couples and Single Ladies\nDress code:\nL
 adies &amp\; Gents:\nBlack/Red/White &amp\; Sexy Glamourous !\nNo T-shirts
  Jeans and Sneakers allowed.\n\nSDC World Party\, de naam zegt het eigenli
 jk al. Een exclusief event dat eens in de zoveel tijd georganiseerd wordt 
 en waar bezoekers vanuit verschillende delen van de wereld voor naar Neder
 land afreizen. Een event dat je niet mag missen.\nWaar anders kun je zo mo
 oi en chic uitgaan als in de Central Studio’s in Utrecht? Het feest zit 
 vol glitter en glamour en speciaal voor jullie staat er een welkomstdrankj
 e klaar om gelijk in de mood te komen.Nog meer dan de vorige editie zullen
  er verschillende partijen hosten op dit feest. Zo hebben we:\nSDC.com: Wo
 rld Leading Erotic Lifestyle platform met miljoenen vaste gebruikers over 
 de hele wereld.\n\nKinky on The Beach (KOTB):  Bekende organisatie in de 
 kinky feesten. Zijn altijd uitverkocht\nSecret Underground:  Organisatie 
 die tegenwoordig zelfs op Ibiza feesten geeft\nPartyplayers:  Club in Lel
 ystad die elke maand vele bezoekers trekt.\nMiranda.nl: Het grootste eroti
 sche warenhuis gevestigd in Eindhoven\, Utrecht\, Zwolle en Zeist\, zal me
 t haar mooie assortiment van onder andere Bobbi Eden ook aanwezig zijn op 
 ons event.\nClubwear Company:\nzal met een stand aanwezig zijn vol spannen
 de\, classy outfits!\n&nbsp\;
CATEGORIES:S.D.C.
LOCATION:Central Studios\, Gietijzerstaat 3/5 \, Utrecht\, Nederland
X-APPLE-STRUCTURED-LOCATION;VALUE=URI;X-ADDRESS=Gietijzerstaat 3/5 \, Utrec
 ht\, Nederland;X-APPLE-RADIUS=100;X-TITLE=Central Studios:geo:0,0
END:VEVENT
BEGIN:VTIMEZONE
TZID:Europe/Amsterdam
X-LIC-LOCATION:Europe/Amsterdam
BEGIN:STANDARD
DTSTART:20191027T020000
TZOFFSETFROM:+0200
TZOFFSETTO:+0100
TZNAME:CET
END:STANDARD
END:VTIMEZONE
END:VCALENDAR