BEGIN:VCALENDAR
VERSION:2.0
PRODID:-//wp-events-plugin.com//7.2.3.1//EN
TZID:Europe/Amsterdam
X-WR-TIMEZONE:Europe/Amsterdam
BEGIN:VEVENT
UID:68@samenswingen.nl
DTSTART;TZID=Europe/Amsterdam:20200927T130000
DTEND;TZID=Europe/Amsterdam:20200927T200000
DTSTAMP:20200313T184048Z
URL:https://samenswingen.nl/Swingers-Evenementen/loverland-bobbi-eden/
SUMMARY:Loverland Bobbi Eden
DESCRIPTION:Vrijdag 25 september van 18.00 uur tot 00.00 uur\nZaterdag 26 
 september van 13.00 uur tot 00.00 uur\nZondag 27 september van 13.00 uur 
 tot 20.00 uur
CATEGORIES:Loversland
LOCATION:Ijsselhallen Zwolle\, Rieteweg 4\, Zwolle\, Nederland
X-APPLE-STRUCTURED-LOCATION;VALUE=URI;X-ADDRESS=Rieteweg 4\, Zwolle\, Neder
 land;X-APPLE-RADIUS=100;X-TITLE=Ijsselhallen Zwolle:geo:0,0
END:VEVENT
BEGIN:VTIMEZONE
TZID:Europe/Amsterdam
X-LIC-LOCATION:Europe/Amsterdam
BEGIN:DAYLIGHT
DTSTART:20200329T030000
TZOFFSETFROM:+0100
TZOFFSETTO:+0200
TZNAME:CEST
END:DAYLIGHT
END:VTIMEZONE
END:VCALENDAR