BEGIN:VCALENDAR
VERSION:2.0
PRODID:-//wp-events-plugin.com//7.2.3.1//EN
TZID:Europe/Amsterdam
X-WR-TIMEZONE:Europe/Amsterdam
BEGIN:VEVENT
UID:46@samenswingen.nl
DTSTART;TZID=Europe/Amsterdam:20200404T200000
DTEND;TZID=Europe/Amsterdam:20200405T040000
DTSTAMP:20200316T200444Z
URL:https://samenswingen.nl/Swingers-Evenementen/kinky-paradise-kinky-only
 -3/
SUMMARY:Kinky Paradise - Kinky Only - geannuleerd
DESCRIPTION:\n zaterdag 4 april 2020\n20:00 - 04:00\nPartyPlayers Lifest
 yle &amp\; Swingersclub (binnen)  \nKofschip 14\nLelystad\n\n\nhouse\,
  trance\, progressive house\, tech trance\n\nBeperking\nHeren alleen in
  gezelschap van een dame.
CATEGORIES:Partyplayers
LOCATION:PartyPlayers\, Kofschip 14\, Lelystad\, 8223 EZ\, Nederland
GEO:52.526543;5.475455
X-APPLE-STRUCTURED-LOCATION;VALUE=URI;X-ADDRESS=Kofschip 14\, Lelystad\, 82
 23 EZ\, Nederland;X-APPLE-RADIUS=100;X-TITLE=PartyPlayers:geo:52.526543,5.
 475455
END:VEVENT
BEGIN:VTIMEZONE
TZID:Europe/Amsterdam
X-LIC-LOCATION:Europe/Amsterdam
BEGIN:DAYLIGHT
DTSTART:20200329T030000
TZOFFSETFROM:+0100
TZOFFSETTO:+0200
TZNAME:CEST
END:DAYLIGHT
END:VTIMEZONE
END:VCALENDAR