BEGIN:VCALENDAR
VERSION:2.0
PRODID:-//wp-events-plugin.com//7.2.3.1//EN
TZID:Europe/Amsterdam
X-WR-TIMEZONE:Europe/Amsterdam
BEGIN:VEVENT
UID:3@samenswingen.nl
DTSTART;TZID=Europe/Amsterdam:20191109T210000
DTEND;TZID=Europe/Amsterdam:20191110T050000
DTSTAMP:20191025T180146Z
URL:https://samenswingen.nl/Swingers-Evenementen/dark-fetish-party/
SUMMARY:Dark Fetish Party
DESCRIPTION:\ntechhouse\, house\, techno\, progressive trance\, trance\
 , tribal house\n\nBeperking\nMannen alleen kunnen geweigerd worden.\n\n\n
 \n\n\nDeurverkoop:\n€\n49\n\,95\n\n\n\n
LOCATION:Westerunie\, Klonneplein 4-6\, Amsterdam\, Nederland
GEO:52.3868077;4.869991000000027
X-APPLE-STRUCTURED-LOCATION;VALUE=URI;X-ADDRESS=Klonneplein 4-6\, Amsterdam
 \, Nederland;X-APPLE-RADIUS=100;X-TITLE=Westerunie:geo:52.3868077,4.869991
 000000027
END:VEVENT
BEGIN:VTIMEZONE
TZID:Europe/Amsterdam
X-LIC-LOCATION:Europe/Amsterdam
BEGIN:STANDARD
DTSTART:20191027T020000
TZOFFSETFROM:+0200
TZOFFSETTO:+0100
TZNAME:CET
END:STANDARD
END:VTIMEZONE
END:VCALENDAR