BEGIN:VCALENDAR
VERSION:2.0
PRODID:-//wp-events-plugin.com//7.2.3.1//EN
TZID:Europe/Amsterdam
X-WR-TIMEZONE:Europe/Amsterdam
BEGIN:VEVENT
UID:7@samenswingen.nl
DTSTART;TZID=Europe/Amsterdam:20191102T210000
DTEND;TZID=Europe/Amsterdam:20191103T040000
DTSTAMP:20191030T165004Z
URL:https://samenswingen.nl/Swingers-Evenementen/back-to-school-crazyland/
SUMMARY:Back to School - Crazyland
DESCRIPTION:DRESSCODE HEREN: NETTE BROEK\, PANTALON OF CHINO\nBLOUSE/ BRETE
 LS\nSHIRT IN EFFEN KLEUREN.\nNERD OF TEACHER OF GOTHIC\nDAMES: SEXY SCHOOL
  GIRL\, CHEERLEADER\, TEACHER\, GOTHIC KLEDING.\nMANNEN MOETEN MET HUN VRO
 UW KOMEN.\nLET OP! DE DEUR ENTREE SLUIT OM 01:00\nKAARTVERKOOP :\nEarly Bi
 rd : € 31\,95  (400 st)\nNormaal : € 35\,95\nVIP Early Bird : € 44\
 ,95 (200 st)\nVIP : € 49\,95\n\nMede doordat Crazyland al zo lang bestaa
 t ( al bijna 20 jaar ) en alle thema’s wel eens langs zijn geweest heeft
  de organisatie toch nog\neen heel leuk nieuw thema kunnen vinden….Ieder
 een heeft er wel eens aan gedacht om wat jaren terug in de tijd te kunnen 
 gaan en weer op school te zitten. Even dat onbezorgde gevoel van hangen in
  de schoolbanken\, spijbelen en chillen met je vrienden. Dat gaan wij voor
  jullie waarmaken want Crazyland komt uit met het thema “Back to School
 ” zodat jij je weer voor één dag terug in die tijd gaat. Meisjes met r
 okjes\, kousen\, vlechten en staarten. Sexy juffen\nen knappe studenten.. 
 het kan allemaal op 2 november want dan toveren wij voor 1 dag de North Se
 a Venue om tot de leukste school van Nederland. Als je deze lessen niet wi
 lt missen scoor dat nu je ticket en wees garant van een plekje in de schoo
 lbanken! Het rooster van die dag voorspelt veel goeds en mocht je in een t
 ussen uur even willen chillen kan dat want er wordt uiteraard gezorgd voor
  genoeg lounge plekken.\nMaar zorg dat je weer op tijd binnen bent als de 
 bel gaat.. want anders krijg je straf!
LOCATION:North Sea Venue\, Hemkade 48\, Zaandam\, Nederland
GEO:52.42268;4.820938100000035
X-APPLE-STRUCTURED-LOCATION;VALUE=URI;X-ADDRESS=Hemkade 48\, Zaandam\, Nede
 rland;X-APPLE-RADIUS=100;X-TITLE=North Sea Venue:geo:52.42268,4.8209381000
 00035
END:VEVENT
BEGIN:VTIMEZONE
TZID:Europe/Amsterdam
X-LIC-LOCATION:Europe/Amsterdam
BEGIN:STANDARD
DTSTART:20191027T020000
TZOFFSETFROM:+0200
TZOFFSETTO:+0100
TZNAME:CET
END:STANDARD
END:VTIMEZONE
END:VCALENDAR